{
 "currentVersion": 10.71,
 "serviceDescription": "Azsite Basemap",
 "mapName": "Layers",
 "description": "",
 "copyrightText": "",
 "supportsDynamicLayers": true,
 "layers": [
  {
   "id": 0,
   "name": "Shaded Relief",
   "parentLayerId": -1,
   "defaultVisibility": true,
   "subLayerIds": null,
   "minScale": 0,
   "maxScale": 2000000,
   "type": "Raster Layer"
  }
 ],
 "tables": [],
 "spatialReference": {
  "wkt": "PROJCS[\"North_American_1983_UTM_Zone_12N\",GEOGCS[\"GCS_North_American_1983\",DATUM[\"D_North_American_1983\",SPHEROID[\"GRS_1980\",6378137.0,298.257222101]],PRIMEM[\"Greenwich\",0.0],UNIT[\"Degree\",0.0174532925199433]],PROJECTION[\"Transverse_Mercator\"],PARAMETER[\"false_easting\",500000.0],PARAMETER[\"false_northing\",0.0],PARAMETER[\"central_meridian\",-111.0],PARAMETER[\"scale_factor\",0.9996],PARAMETER[\"latitude_of_origin\",0.0],UNIT[\"Meter\",1.0]]"
 },
 "singleFusedMapCache": true,
 "tileInfo": {
  "rows": 256,
  "cols": 256,
  "dpi": 96,
  "format": "JPEG",
  "compressionQuality": 75,
  "origin": {
   "x": -5120900,
   "y": 9998100
  },
  "spatialReference": {
   "wkt": "PROJCS[\"North_American_1983_UTM_Zone_12N\",GEOGCS[\"GCS_North_American_1983\",DATUM[\"D_North_American_1983\",SPHEROID[\"GRS_1980\",6378137.0,298.257222101]],PRIMEM[\"Greenwich\",0.0],UNIT[\"Degree\",0.0174532925199433]],PROJECTION[\"Transverse_Mercator\"],PARAMETER[\"false_easting\",500000.0],PARAMETER[\"false_northing\",0.0],PARAMETER[\"central_meridian\",-111.0],PARAMETER[\"scale_factor\",0.9996],PARAMETER[\"latitude_of_origin\",0.0],UNIT[\"Meter\",1.0]]"
  },
  "lods": [
   {
    "level": 0,
    "resolution": 1220.4171429176192,
    "scale": 4612591
   },
   {
    "level": 1,
    "resolution": 1058.3354500042335,
    "scale": 4000000
   },
   {
    "level": 2,
    "resolution": 926.0435187537042,
    "scale": 3500000
   },
   {
    "level": 3,
    "resolution": 793.7515875031751,
    "scale": 3000000
   },
   {
    "level": 4,
    "resolution": 661.4596562526459,
    "scale": 2500000
   },
   {
    "level": 5,
    "resolution": 529.1677250021168,
    "scale": 2000000
   },
   {
    "level": 6,
    "resolution": 396.87579375158754,
    "scale": 1500000
   },
   {
    "level": 7,
    "resolution": 264.5838625010584,
    "scale": 1000000
   },
   {
    "level": 8,
    "resolution": 198.43789687579377,
    "scale": 750000
   },
   {
    "level": 9,
    "resolution": 132.2919312505292,
    "scale": 500000
   },
   {
    "level": 10,
    "resolution": 105.83354500042334,
    "scale": 400000
   },
   {
    "level": 11,
    "resolution": 92.60435187537043,
    "scale": 350000
   },
   {
    "level": 12,
    "resolution": 79.37515875031751,
    "scale": 300000
   },
   {
    "level": 13,
    "resolution": 66.1459656252646,
    "scale": 250000
   },
   {
    "level": 14,
    "resolution": 52.91677250021167,
    "scale": 200000
   },
   {
    "level": 15,
    "resolution": 39.687579375158755,
    "scale": 150000
   },
   {
    "level": 16,
    "resolution": 33.0729828126323,
    "scale": 125000
   },
   {
    "level": 17,
    "resolution": 26.458386250105836,
    "scale": 100000
   },
   {
    "level": 18,
    "resolution": 19.843789687579378,
    "scale": 75000
   },
   {
    "level": 19,
    "resolution": 13.229193125052918,
    "scale": 50000
   },
   {
    "level": 20,
    "resolution": 9.260435187537043,
    "scale": 35000
   },
   {
    "level": 21,
    "resolution": 7.9375158750317505,
    "scale": 30000
   },
   {
    "level": 22,
    "resolution": 6.350012700025401,
    "scale": 24000
   },
   {
    "level": 23,
    "resolution": 5.291677250021167,
    "scale": 20000
   },
   {
    "level": 24,
    "resolution": 4.233341800016934,
    "scale": 16000
   },
   {
    "level": 25,
    "resolution": 2.116670900008467,
    "scale": 8000
   },
   {
    "level": 26,
    "resolution": 1.0583354500042335,
    "scale": 4000
   }
  ]
 },
 "initialExtent": {
  "xmin": 70946.54816913325,
  "ymin": 3743045.2452382045,
  "xmax": 811287.0737070949,
  "ymax": 4126469.6862137476,
  "spatialReference": {
   "cs": "pcs",
   "wkt": "PROJCS[\"North_American_1983_UTM_Zone_12N\",GEOGCS[\"GCS_North_American_1983\",DATUM[\"D_North_American_1983\",SPHEROID[\"GRS_1980\",6378137.0,298.257222101]],PRIMEM[\"Greenwich\",0.0],UNIT[\"Degree\",0.0174532925199433]],PROJECTION[\"Transverse_Mercator\"],PARAMETER[\"false_easting\",500000.0],PARAMETER[\"false_northing\",0.0],PARAMETER[\"central_meridian\",-111.0],PARAMETER[\"scale_factor\",0.9996],PARAMETER[\"latitude_of_origin\",0.0],UNIT[\"Meter\",1.0]]"
  }
 },
 "fullExtent": {
  "xmin": 119981.61016830511,
  "ymin": 3455240.232752859,
  "xmax": 762252.0117079231,
  "ymax": 4126469.6862137476,
  "spatialReference": {
   "cs": "pcs",
   "wkt": "PROJCS[\"North_American_1983_UTM_Zone_12N\",GEOGCS[\"GCS_North_American_1983\",DATUM[\"D_North_American_1983\",SPHEROID[\"GRS_1980\",6378137.0,298.257222101]],PRIMEM[\"Greenwich\",0.0],UNIT[\"Degree\",0.0174532925199433]],PROJECTION[\"Transverse_Mercator\"],PARAMETER[\"false_easting\",500000.0],PARAMETER[\"false_northing\",0.0],PARAMETER[\"central_meridian\",-111.0],PARAMETER[\"scale_factor\",0.9996],PARAMETER[\"latitude_of_origin\",0.0],UNIT[\"Meter\",1.0]]"
  }
 },
 "minScale": 4612591,
 "maxScale": 4000,
 "units": "esriMeters",
 "supportedImageFormatTypes": "PNG32,PNG24,PNG,JPG,DIB,TIFF,EMF,PS,PDF,GIF,SVG,SVGZ,BMP",
 "documentInfo": {
  "Title": "",
  "Author": "",
  "Comments": "Azsite Basemap",
  "Subject": "Azsite Basemap",
  "Category": "",
  "AntialiasingMode": "None",
  "TextAntialiasingMode": "Force",
  "Keywords": "Azsite"
 },
 "capabilities": "Map,Query,Data",
 "supportedQueryFormats": "JSON, geoJSON",
 "exportTilesAllowed": false,
 "datumTransformations": [
  {
   "geoTransforms": [
    {
     "wkid": 108001,
     "latestWkid": 1241,
     "transformForward": true,
     "name": "NAD_1927_To_NAD_1983_NADCON"
    }
   ]
  },
  {
   "geoTransforms": [
    {
     "wkid": 108001,
     "latestWkid": 1241,
     "transformForward": false,
     "name": "NAD_1927_To_NAD_1983_NADCON"
    }
   ]
  }
 ],
 "supportsDatumTransformation": true,
 "maxRecordCount": 1000,
 "maxImageHeight": 4096,
 "maxImageWidth": 4096,
 "supportedExtensions": ""
}
