{
 "currentVersion": 10.71,
 "serviceDescription": "Azsite Imagery Cache",
 "mapName": "Layers",
 "description": "",
 "copyrightText": "Azsite",
 "supportsDynamicLayers": true,
 "layers": [
  {
   "id": 0,
   "name": "Imagery_placeholder",
   "parentLayerId": -1,
   "defaultVisibility": true,
   "subLayerIds": null,
   "minScale": 0,
   "maxScale": 0,
   "type": "Feature Layer",
   "geometryType": "esriGeometryPolygon"
  }
 ],
 "tables": [],
 "spatialReference": {
  "wkid": 26912,
  "latestWkid": 26912
 },
 "singleFusedMapCache": true,
 "tileInfo": {
  "rows": 256,
  "cols": 256,
  "dpi": 96,
  "format": "JPEG",
  "compressionQuality": 75,
  "origin": {
   "x": -5120900,
   "y": 9998100
  },
  "spatialReference": {
   "wkid": 26912,
   "latestWkid": 26912
  },
  "lods": [
   {
    "level": 0,
    "resolution": 1220.4171429176192,
    "scale": 4612591
   },
   {
    "level": 1,
    "resolution": 1058.3354500042335,
    "scale": 4000000
   },
   {
    "level": 2,
    "resolution": 926.0435187537042,
    "scale": 3500000
   },
   {
    "level": 3,
    "resolution": 793.7515875031751,
    "scale": 3000000
   },
   {
    "level": 4,
    "resolution": 661.4596562526459,
    "scale": 2500000
   },
   {
    "level": 5,
    "resolution": 529.1677250021168,
    "scale": 2000000
   },
   {
    "level": 6,
    "resolution": 396.87579375158754,
    "scale": 1500000
   },
   {
    "level": 7,
    "resolution": 264.5838625010584,
    "scale": 1000000
   },
   {
    "level": 8,
    "resolution": 198.43789687579377,
    "scale": 750000
   },
   {
    "level": 9,
    "resolution": 132.2919312505292,
    "scale": 500000
   },
   {
    "level": 10,
    "resolution": 105.83354500042334,
    "scale": 400000
   },
   {
    "level": 11,
    "resolution": 92.60435187537043,
    "scale": 350000
   },
   {
    "level": 12,
    "resolution": 79.37515875031751,
    "scale": 300000
   },
   {
    "level": 13,
    "resolution": 66.1459656252646,
    "scale": 250000
   },
   {
    "level": 14,
    "resolution": 52.91677250021167,
    "scale": 200000
   },
   {
    "level": 15,
    "resolution": 39.687579375158755,
    "scale": 150000
   },
   {
    "level": 16,
    "resolution": 33.0729828126323,
    "scale": 125000
   },
   {
    "level": 17,
    "resolution": 26.458386250105836,
    "scale": 100000
   },
   {
    "level": 18,
    "resolution": 19.843789687579378,
    "scale": 75000
   },
   {
    "level": 19,
    "resolution": 13.229193125052918,
    "scale": 50000
   },
   {
    "level": 20,
    "resolution": 9.260435187537043,
    "scale": 35000
   },
   {
    "level": 21,
    "resolution": 7.9375158750317505,
    "scale": 30000
   },
   {
    "level": 22,
    "resolution": 6.614596562526459,
    "scale": 25000
   },
   {
    "level": 23,
    "resolution": 6.350012700025401,
    "scale": 24000
   },
   {
    "level": 24,
    "resolution": 5.291677250021167,
    "scale": 20000
   },
   {
    "level": 25,
    "resolution": 4.233341800016934,
    "scale": 16000
   },
   {
    "level": 26,
    "resolution": 2.116670900008467,
    "scale": 8000
   },
   {
    "level": 27,
    "resolution": 1.0583354500042335,
    "scale": 4000
   }
  ]
 },
 "initialExtent": {
  "xmin": -402595.5856641856,
  "ymin": 3575311.706509695,
  "xmax": 1228381.7641649488,
  "ymax": 4398087.445131866,
  "spatialReference": {
   "wkid": 26912,
   "latestWkid": 26912
  }
 },
 "fullExtent": {
  "xmin": 141388.11730000004,
  "ymin": 3466416.2350999992,
  "xmax": 685522.4296000004,
  "ymax": 4099268.8279999997,
  "spatialReference": {
   "wkid": 26912,
   "latestWkid": 26912
  }
 },
 "minScale": 4612591,
 "maxScale": 4000,
 "units": "esriMeters",
 "supportedImageFormatTypes": "PNG32,PNG24,PNG,JPG,DIB,TIFF,EMF,PS,PDF,GIF,SVG,SVGZ,BMP",
 "documentInfo": {
  "Title": "",
  "Author": "",
  "Comments": "Azsite Imagery Cache",
  "Subject": "Azsite Imagery Cache",
  "Category": "",
  "AntialiasingMode": "None",
  "TextAntialiasingMode": "Force",
  "Keywords": "Azsite Imagery Cache"
 },
 "capabilities": "Map,Query,Data",
 "supportedQueryFormats": "JSON, geoJSON",
 "exportTilesAllowed": false,
 "datumTransformations": [
  {
   "geoTransforms": [
    {
     "wkid": 108001,
     "latestWkid": 1241,
     "transformForward": true,
     "name": "NAD_1927_To_NAD_1983_NADCON"
    }
   ]
  },
  {
   "geoTransforms": [
    {
     "wkid": 108001,
     "latestWkid": 1241,
     "transformForward": false,
     "name": "NAD_1927_To_NAD_1983_NADCON"
    }
   ]
  }
 ],
 "supportsDatumTransformation": true,
 "maxRecordCount": 1000,
 "maxImageHeight": 4096,
 "maxImageWidth": 4096,
 "supportedExtensions": ""
}
